BEGIN:VCALENDAR
VERSION:2.0
PRODID:-//Lancaster County Watersheds - ECPv6.15.1.1//NONSGML v1.0//EN
CALSCALE:GREGORIAN
METHOD:PUBLISH
X-WR-CALNAME:Lancaster County Watersheds
X-ORIGINAL-URL:https://lancasterwatersheds.org
X-WR-CALDESC:Events for Lancaster County Watersheds
REFRESH-INTERVAL;VALUE=DURATION:PT1H
X-Robots-Tag:noindex
X-PUBLISHED-TTL:PT1H
BEGIN:VTIMEZONE
TZID:America/New_York
BEGIN:DAYLIGHT
TZOFFSETFROM:-0500
TZOFFSETTO:-0400
TZNAME:EDT
DTSTART:20260308T070000
END:DAYLIGHT
BEGIN:STANDARD
TZOFFSETFROM:-0400
TZOFFSETTO:-0500
TZNAME:EST
DTSTART:20261101T060000
END:STANDARD
END:VTIMEZONE
BEGIN:VEVENT
DTSTART;TZID=America/New_York:20260423T093000
DTEND;TZID=America/New_York:20260423T123000
DTSTAMP:20260423T092615
CREATED:20260416T142126Z
LAST-MODIFIED:20260416T142126Z
UID:14791-1776936600-1776947400@lancasterwatersheds.org
SUMMARY:Chiques Creek Tree Planting - April 23
DESCRIPTION:Greening the Lower Susquehanna is partnering with the Chiques Creek Watershed Alliance to replant about 200 shrubs along a restored section of Chiques Creek near where it crosses Rt 72 north of Manheim.  We will also be replacing the short shelters around surviving shrubs with taller protection to prevent deer browse.  Bring your own water\, gloves\, and snacks.  Please email Kristen at klk343@psu.edu to sign up and get parking instructions.
URL:https://lancasterwatersheds.org/event/chiques-creek-tree-planting-april-23/
END:VEVENT
BEGIN:VEVENT
DTSTART;TZID=America/New_York:20260425T090000
DTEND;TZID=America/New_York:20260425T120000
DTSTAMP:20260423T092615
CREATED:20260407T142459Z
LAST-MODIFIED:20260407T142459Z
UID:14771-1777107600-1777118400@lancasterwatersheds.org
SUMMARY:10th Annual Octoraro Reservoir Clean-up
DESCRIPTION:On Saturday April 25th\, 2026 meet in the parking lot at Jim Neary’s Bait & Tackle (aka Fishing HQ)\, 212 Spruce Grove Road\, Kirkwood\, PA 17536.  Snacks will be provide\, courtesy of Kreiders Market.  Gloves\, trash bags\, etc. will be provided\, and it is suggested to wear boots and long pants.  This will go from 9:00am – Noon.
URL:https://lancasterwatersheds.org/event/10th-annual-octoraro-reservoir-clean-up/
LOCATION:Jim Neary’s Bait & Tackle\, 212 Spruce Grove Road\, Kirkwood\, PA\, 17536\, United States
ORGANIZER;CN="Octoraro Watershed Association":MAILTO:Octorarowa@gmail.com
END:VEVENT
BEGIN:VEVENT
DTSTART;TZID=America/New_York:20260425T130000
DTEND;TZID=America/New_York:20260425T150000
DTSTAMP:20260423T092615
CREATED:20260416T142342Z
LAST-MODIFIED:20260416T142342Z
UID:14794-1777122000-1777129200@lancasterwatersheds.org
SUMMARY:Tree Planting in Elizabethtown - April 25
DESCRIPTION:Join the Tri-County Conewago Creek Association for a tree planting in Elizabethtown. They will be replanting a project that experienced some loss due to drought. About 70 trees will be planted. https://extension.psu.edu/volunteer-riparian-buffer-planting
URL:https://lancasterwatersheds.org/event/tree-planting-in-elizabethtown-april-25/
END:VEVENT
BEGIN:VEVENT
DTSTART;TZID=America/New_York:20260516T090000
DTEND;TZID=America/New_York:20260516T120000
DTSTAMP:20260423T092615
CREATED:20260416T142623Z
LAST-MODIFIED:20260416T142623Z
UID:14796-1778922000-1778932800@lancasterwatersheds.org
SUMMARY:Replanting Hershey Pollinator Garden - May 16
DESCRIPTION:Help is needed at the Monarch Butterfly and Pollinator Conservation Area along Cocoa Avenue in Hershey to build habitat for Monarch butterflies and pollinators.  This year\, volunteers will be clearing older plots\, replanting with nectar plants and laying wood chips on the paths.  This is the 10 year anniversary of creating habitat! Join the celebration. Sign up at:   https://www.signupgenius.com/go/30E0C4BACAC2CA6F49-48475844-pollinator
URL:https://lancasterwatersheds.org/event/replanting-hershey-pollinator-garden-may-16/
END:VEVENT
BEGIN:VEVENT
DTSTART;TZID=America/New_York:20260605T080000
DTEND;TZID=America/New_York:20260613T170000
DTSTAMP:20260423T092615
CREATED:20260304T190008Z
LAST-MODIFIED:20260304T192513Z
UID:14699-1780646400-1781370000@lancasterwatersheds.org
SUMMARY:Where the River Reads: Water Week Library Series
DESCRIPTION:On the 10th anniversary of Lancaster Water Week\, the Lancaster County Conservation District is partnering with the Library System of Lancaster County for an exciting week-long watershed-themed event. At each library\, we will have book lists for adults and children focused on conservation and watersheds\, providing unique exploration topics for all ages. Our highlight event is a virtual webinar by Rosalie Haizlett\, author of Tiny Worlds of the Appalachian Mountains\, an Artist’s Journey. Learn more about the event here and more about Water Week here. \n 
URL:https://lancasterwatersheds.org/event/where-the-river-reads-water-week-library-series/
LOCATION:Libraries of Lancaster County
END:VEVENT
BEGIN:VEVENT
DTSTART;TZID=America/New_York:20260608T190000
DTEND;TZID=America/New_York:20260608T200000
DTSTAMP:20260423T092615
CREATED:20260302T125814Z
LAST-MODIFIED:20260302T125814Z
UID:14680-1780945200-1780948800@lancasterwatersheds.org
SUMMARY:Cocalico Creek Watershed Association - June Meeting
DESCRIPTION:The Cocalico Creek Watershed Association will be hosting their June meeting on Monday\, June 8th at 7:00pm. For more details about the event\, refer to CCWA’s Facebook page. You can also contact Dave Weidman (super45mom@yahoo.com) with questions about the meeting.
URL:https://lancasterwatersheds.org/event/cocalico-creek-watershed-association-june-meeting-2/
LOCATION:Cocalico Creek Sportsman Association\, 585 Sportsman Rd.\, Denver\, 17517\, United States
END:VEVENT
BEGIN:VEVENT
DTSTART;TZID=America/New_York:20260610T180000
DTEND;TZID=America/New_York:20260610T190000
DTSTAMP:20260423T092615
CREATED:20260304T190323Z
LAST-MODIFIED:20260323T171504Z
UID:14702-1781114400-1781118000@lancasterwatersheds.org
SUMMARY:Virtual Webinar: Tiny Worlds of the Appalachian Mountains by Rosalie Haizlett
DESCRIPTION:Author Rosalie Haizlett is coming virtually to Lancaster County during Water Week to discuss her book Tiny Worlds of the Appalachian Mountains\, an Artist’s Journey .  Register here for this free\, all ages Water Week event. \n 
URL:https://lancasterwatersheds.org/event/virtual-webinar-tiny-worlds-of-the-appalachian-mountains-by-rosalie-haizlett/
LOCATION:Virtual
END:VEVENT
BEGIN:VEVENT
DTSTART;TZID=America/New_York:20260612T170000
DTEND;TZID=America/New_York:20260612T183000
DTSTAMP:20260423T092615
CREATED:20260416T142855Z
LAST-MODIFIED:20260416T142855Z
UID:14799-1781283600-1781289000@lancasterwatersheds.org
SUMMARY:Creek Discovery Day with Chiques Creek Watershed Alliance
DESCRIPTION:Creek Discovery Day: Exploring a creek and riparian restoration \nThe Chiques Creek Watershed Alliance is hosting an event as part of Lancaster Water Week to give participants a chance to learn about the plants and animals that are part of a 5 year old restoration project. \nhttps://www.chiquescreekwatershedalliance.org/upcoming/creek-discovery-day-exploring-a-creek-and-riparian-restoration
URL:https://lancasterwatersheds.org/event/creek-discovery-day-with-chiques-creek-watershed-alliance/
END:VEVENT
BEGIN:VEVENT
DTSTART;TZID=America/New_York:20260716T143000
DTEND;TZID=America/New_York:20260716T160000
DTSTAMP:20260423T092615
CREATED:20251208T182138Z
LAST-MODIFIED:20251208T182257Z
UID:14215-1784212200-1784217600@lancasterwatersheds.org
SUMMARY:WQVC Meeting - July 2026
DESCRIPTION:Join volunteers of the Water Quality Volunteer Coalition for a meeting at the Farm & Home Center to discuss water quality sampling happening throughout the county. Interested/new and existing members are encouraged to attend! \nContact us for more details or for more information.
URL:https://lancasterwatersheds.org/event/wqvc-meeting-jul-2026/
LOCATION:Farm & Home Center\, 1383 ARCADIA RD\, LANCASTER\, PA\, 17601-3149\, United States
END:VEVENT
BEGIN:VEVENT
DTSTART;TZID=America/New_York:20260810T190000
DTEND;TZID=America/New_York:20260810T200000
DTSTAMP:20260423T092615
CREATED:20260302T125611Z
LAST-MODIFIED:20260302T125611Z
UID:14678-1786388400-1786392000@lancasterwatersheds.org
SUMMARY:Cocalico Creek Watershed Association - August Meeting
DESCRIPTION:The Cocalico Creek Watershed Association will be hosting their August meeting and Ice Cream Social on Monday\, August 10th place and time TBD. For more details about the event\, refer to CCWA’s Facebook page. You can also contact Dave Weidman (super45mom@yahoo.com) with questions about the meeting.
URL:https://lancasterwatersheds.org/event/cocalico-creek-watershed-association-august-meeting-2/
END:VEVENT
BEGIN:VEVENT
DTSTART;TZID=America/New_York:20261012T190000
DTEND;TZID=America/New_York:20261012T200000
DTSTAMP:20260423T092615
CREATED:20260302T130025Z
LAST-MODIFIED:20260302T130025Z
UID:14682-1791831600-1791835200@lancasterwatersheds.org
SUMMARY:Cocalico Creek Watershed Association - October Meeting
DESCRIPTION:The Cocalico Creek Watershed Association will be hosting their October meeting on Monday\, October 12th at 7:00pm. For more details about the event\, refer to CCWA’s Facebook page. You can also contact Dave Weidman (super45mom@yahoo.com) with questions about the meeting.
URL:https://lancasterwatersheds.org/event/cocalico-creek-watershed-association-october-meeting-2/
LOCATION:Cocalico Creek Sportsman Association\, 585 Sportsman Rd.\, Denver\, 17517\, United States
END:VEVENT
BEGIN:VEVENT
DTSTART;TZID=America/New_York:20261015T143000
DTEND;TZID=America/New_York:20261015T160000
DTSTAMP:20260423T092615
CREATED:20251208T182324Z
LAST-MODIFIED:20251208T182427Z
UID:14217-1792074600-1792080000@lancasterwatersheds.org
SUMMARY:WQVC Meeting - October 2026
DESCRIPTION:Join volunteers of the Water Quality Volunteer Coalition for a meeting at the Farm & Home Center to discuss water quality sampling happening throughout the county. Interested/new and existing members are encouraged to attend! \nContact us for more details or for more information.
URL:https://lancasterwatersheds.org/event/wqvc-meeting-oct-2026/
LOCATION:Farm & Home Center\, 1383 ARCADIA RD\, LANCASTER\, PA\, 17601-3149\, United States
END:VEVENT
BEGIN:VEVENT
DTSTART;TZID=America/New_York:20261214T190000
DTEND;TZID=America/New_York:20261214T200000
DTSTAMP:20260423T092615
CREATED:20260302T130135Z
LAST-MODIFIED:20260302T130135Z
UID:14684-1797274800-1797278400@lancasterwatersheds.org
SUMMARY:Cocalico Creek Watershed Association - December Meeting
DESCRIPTION:The Cocalico Creek Watershed Association will be hosting their December meeting on Monday\, December 14th at 7:00pm. For more details about the event\, refer to CCWA’s Facebook page. You can also contact Dave Weidman (super45mom@yahoo.com) with questions about the meeting.
URL:https://lancasterwatersheds.org/event/cocalico-creek-watershed-association-december-meeting-2/
LOCATION:Cocalico Creek Sportsman Association\, 585 Sportsman Rd.\, Denver\, 17517\, United States
END:VEVENT
END:VCALENDAR